BEGIN:VCALENDAR
VERSION:2.0
PRODID:icalendar-ruby
CALSCALE:GREGORIAN
METHOD:PUBLISH
BEGIN:VEVENT
DTSTAMP:20260419T204434Z
UID:12-1075491@spiritofunitybc.org
DTSTART:20260930T223000Z
DTEND:20260930T233000Z
CLASS:PUBLIC
CREATED:20260419T152338
DESCRIPTION:Join us as we study the Word of God.
LAST-MODIFIED:20260419T152338
LOCATION:Tommy London Fellowship Hall
SUMMARY:Bible Study
URL;VALUE=URI:https://www.spiritofunitybc.org/events/bible-study--12/2026-0
 9-30
ATTACH;FILENAME=IMG_4768.jpg;FMTTYPE=image/jpeg:https://dq5pwpg1q8ru0.cloud
 front.net/2022/10/19/18/00/51/05c2d409-5df0-4d00-99a1-34301f0154c7/IMG_476
 8.jpg
END:VEVENT
END:VCALENDAR
