BEGIN:VCALENDAR
VERSION:2.0
PRODID:icalendar-ruby
CALSCALE:GREGORIAN
METHOD:PUBLISH
BEGIN:VEVENT
DTSTAMP:20260420T002058Z
UID:12-1076293@spiritofunitybc.org
DTSTART:20261014T223000Z
DTEND:20261014T233000Z
CLASS:PUBLIC
CREATED:20260419T190630
DESCRIPTION:Join us as we study the Word of God.
LAST-MODIFIED:20260419T190630
LOCATION:Tommy London Fellowship Hall
SUMMARY:Bible Study
URL;VALUE=URI:https://www.spiritofunitybc.org/events/bible-study--12/2026-1
 0-14
ATTACH;FILENAME=IMG_4768.jpg;FMTTYPE=image/jpeg:https://dq5pwpg1q8ru0.cloud
 front.net/2022/10/19/18/00/51/05c2d409-5df0-4d00-99a1-34301f0154c7/IMG_476
 8.jpg
END:VEVENT
END:VCALENDAR
