BEGIN:VCALENDAR
VERSION:2.0
PRODID:icalendar-ruby
CALSCALE:GREGORIAN
METHOD:PUBLISH
BEGIN:VEVENT
DTSTAMP:20260419T173751Z
UID:21-1075019@spiritofunitybc.org
DTSTART:20260920T140000Z
DTEND:20260920T153000Z
CLASS:PUBLIC
CREATED:20260419T114117
DESCRIPTION:Join Us For Worship!
LAST-MODIFIED:20260419T114117
LOCATION:
SUMMARY:Sunday Morning Worship
URL;VALUE=URI:https://www.spiritofunitybc.org/events/sunday-morning-worship
 --15/2026-09-20
ATTACH;FILENAME=2---Copy.png;FMTTYPE=image/png:https://dq5pwpg1q8ru0.cloudf
 ront.net/2025/06/08/05/15/05/6574519d-5c55-4e70-b051-696e68468ca4/2---Copy
 .png
END:VEVENT
END:VCALENDAR
