BEGIN:VCALENDAR
VERSION:2.0
PRODID:icalendar-ruby
CALSCALE:GREGORIAN
METHOD:PUBLISH
BEGIN:VEVENT
DTSTAMP:20260421T091049Z
UID:14-1082892@spiritofunitybc.org
DTSTART:20260830T130000Z
DTEND:20260830T134500Z
CLASS:PUBLIC
CREATED:20260420T201709
DESCRIPTION:Meet new people and gain a deeper understanding of God's word t
 o help apply scriptual truth to your everyday life!
LAST-MODIFIED:20260420T201709
LOCATION:193 Updike Lane Roanoke VA 24019
SUMMARY:Sunday School
URL;VALUE=URI:https://www.spiritofunitybc.org/events/sunday-school/2026-08-
 30
ATTACH;FILENAME=IMG-6063.jpg;FMTTYPE=image/jpeg:https://dq5pwpg1q8ru0.cloud
 front.net/2022/12/01/06/48/10/ce547bc5-1f37-43c5-8acd-6f61b9ff20c6/IMG-606
 3.jpg
END:VEVENT
END:VCALENDAR
