BEGIN:VCALENDAR
VERSION:2.0
PRODID:icalendar-ruby
CALSCALE:GREGORIAN
METHOD:PUBLISH
BEGIN:VEVENT
DTSTAMP:20260420T121828Z
UID:5-1078486@spiritofunitybc.org
DTSTART:20261025T140000Z
DTEND:20261025T150000Z
CLASS:PUBLIC
CREATED:20260420T072159
DESCRIPTION:Sunday Worship
LAST-MODIFIED:20260420T072159
LOCATION:
SUMMARY:Sunday Worship
URL;VALUE=URI:https://www.spiritofunitybc.org/events/sunday-worship/2026-10
 -25
END:VEVENT
END:VCALENDAR
